BEGIN:VCALENDAR
VERSION:2.0
PRODID:-//www.dsamidlands.org//NONSGML kigkonsult.se iCalcreator 2.30.10//
CALSCALE:GREGORIAN
METHOD:PUBLISH
UID:beeb753d-0fb7-4c4a-b149-160f1392688c
X-WR-CALDESC:Summer Fun with Little Ones: Come join the fun with your littl
 e one age birth through three at our music based play date! We will play a
 nd have fun with music\, dance and instruments! \n
X-WR-RELCALID:3159d63758aacb7cc9b4765de82a38de
X-WR-TIMEZONE:America/Chicago
BEGIN:VTIMEZONE
TZID:America/Chicago
BEGIN:STANDARD
TZNAME:CST
DTSTART:20241103T020000
TZOFFSETFROM:-0500
TZOFFSETTO:-0600
RDATE:20251102T020000
RDATE:20261101T020000
END:STANDARD
BEGIN:DAYLIGHT
TZNAME:CDT
DTSTART:20250309T020000
TZOFFSETFROM:-0600
TZOFFSETTO:-0500
RDATE:20260308T020000
END:DAYLIGHT
END:VTIMEZONE
BEGIN:VEVENT
UID:589a822e-c013-4b49-ac21-ae81889c4afd
DTSTAMP:20260422T004005Z
DESCRIPTION:Summer Fun with Little Ones: Come join the fun with your little
  one age birth through three at our music based play date! We will play an
 d have fun with music\, dance and instruments! \n
DTSTART;TZID=America/Chicago:20250802T100000
DTEND;TZID=America/Chicago:20250802T110000
LOCATION:https://secure.lglforms.com/form_engine/s/kECn-wUtV62uPoRDOShqiA
SUMMARY:Summer Fun with Little Ones: Music Fun at DSA
END:VEVENT
END:VCALENDAR
