BEGIN:VCALENDAR
VERSION:2.0
PRODID:-//www.dsamidlands.org//NONSGML kigkonsult.se iCalcreator 2.30.10//
CALSCALE:GREGORIAN
METHOD:PUBLISH
UID:9b182d5a-d510-458e-b08e-18a0ffc809be
X-WR-CALDESC:This club is free to DSA members who are teens and adults. Mee
 ting instructions will be shared ahead of the event in individual emails.
X-WR-RELCALID:ef9a97195a704d4dbebfe2728bd1911b
X-WR-TIMEZONE:America/Chicago
BEGIN:VTIMEZONE
TZID:America/Chicago
BEGIN:STANDARD
TZNAME:CST
DTSTART:20241103T020000
TZOFFSETFROM:-0500
TZOFFSETTO:-0600
RDATE:20251102T020000
RDATE:20261101T020000
END:STANDARD
BEGIN:DAYLIGHT
TZNAME:CDT
DTSTART:20250309T020000
TZOFFSETFROM:-0600
TZOFFSETTO:-0500
RDATE:20260308T020000
END:DAYLIGHT
END:VTIMEZONE
BEGIN:VEVENT
UID:e3518136-a07f-4296-b26c-49d21e5e4aa9
DTSTAMP:20260422T021611Z
DESCRIPTION:This club is free to DSA members who are teens and adults. Meet
 ing instructions will be shared ahead of the event in individual emails.
DTSTART;TZID=America/Chicago:20250731T170000
DTEND;TZID=America/Chicago:20250731T180000
LOCATION:https://secure.lglforms.com/form_engine/s/LYWk_EmJG_EUza-95feLjw
SUMMARY:Walking/Running Club - Teens/Adults
END:VEVENT
END:VCALENDAR
