BEGIN:VCALENDAR
VERSION:2.0
PRODID:-//www.dsamidlands.org//NONSGML kigkonsult.se iCalcreator 2.30.10//
CALSCALE:GREGORIAN
METHOD:PUBLISH
UID:90df4c4d-8d47-4b91-b4e7-d23419dec64c
X-WR-CALDESC:Summer Fun with Little Ones: Come join the fun with your littl
 e one age birth through three at our music based play date! Music Therapis
 t\, Emily Wadhams will be here to share a fun and vibrant mix of music\, d
 ance\, and instruments. You and your little one are sure to have a great t
 ime creating and sharing music together.\n
X-WR-RELCALID:0d1a75f243b56838d4a2e2087ea632a6
X-WR-TIMEZONE:America/Chicago
BEGIN:VTIMEZONE
TZID:America/Chicago
BEGIN:STANDARD
TZNAME:CST
DTSTART:20241103T020000
TZOFFSETFROM:-0500
TZOFFSETTO:-0600
RDATE:20251102T020000
RDATE:20261101T020000
END:STANDARD
BEGIN:DAYLIGHT
TZNAME:CDT
DTSTART:20250309T020000
TZOFFSETFROM:-0600
TZOFFSETTO:-0500
RDATE:20260308T020000
END:DAYLIGHT
END:VTIMEZONE
BEGIN:VEVENT
UID:4176cc4d-6f86-4cfb-b167-819ac504f97c
DTSTAMP:20260422T020744Z
DESCRIPTION:Summer Fun with Little Ones: Come join the fun with your little
  one age birth through three at our music based play date! Music Therapist
 \, Emily Wadhams will be here to share a fun and vibrant mix of music\, da
 nce\, and instruments. You and your little one are sure to have a great ti
 me creating and sharing music together.\n
DTSTART;TZID=America/Chicago:20250730T100000
DTEND;TZID=America/Chicago:20250730T110000
LOCATION:https://secure.lglforms.com/form_engine/s/gD9l_g-S5sJBlJuXiMGhbw
SUMMARY:Summer Fun with Little Ones: Music Therapy Fun
END:VEVENT
END:VCALENDAR
