BEGIN:VCALENDAR
VERSION:2.0
PRODID:-//www.dsamidlands.org//NONSGML kigkonsult.se iCalcreator 2.30.10//
CALSCALE:GREGORIAN
METHOD:PUBLISH
UID:eb7902d5-4e4a-4099-88c3-9b48a2946079
X-WR-CALDESC:This club is free to DSA members who are teens and adults. Mee
 ting instructions will be shared ahead of the event in individual emails.
X-WR-RELCALID:d3229125c040a4a5ab175100e80e57eb
X-WR-TIMEZONE:America/Chicago
BEGIN:VTIMEZONE
TZID:America/Chicago
BEGIN:STANDARD
TZNAME:CST
DTSTART:20241103T020000
TZOFFSETFROM:-0500
TZOFFSETTO:-0600
RDATE:20251102T020000
RDATE:20261101T020000
END:STANDARD
BEGIN:DAYLIGHT
TZNAME:CDT
DTSTART:20250309T020000
TZOFFSETFROM:-0600
TZOFFSETTO:-0500
RDATE:20260308T020000
END:DAYLIGHT
END:VTIMEZONE
BEGIN:VEVENT
UID:c8fe8730-fe50-4e77-b99b-4bc9b996a162
DTSTAMP:20260422T021611Z
DESCRIPTION:This club is free to DSA members who are teens and adults. Meet
 ing instructions will be shared ahead of the event in individual emails.
DTSTART;TZID=America/Chicago:20250724T170000
DTEND;TZID=America/Chicago:20250724T180000
LOCATION:https://secure.lglforms.com/form_engine/s/LYWk_EmJG_EUza-95feLjw
SUMMARY:Walking/Running Club - Teens/Adults
END:VEVENT
END:VCALENDAR
