BEGIN:VCALENDAR
VERSION:2.0
PRODID:-//www.dsamidlands.org//NONSGML kigkonsult.se iCalcreator 2.30.10//
CALSCALE:GREGORIAN
METHOD:PUBLISH
UID:35c9850c-5f00-491a-8776-3ba4ada19557
X-WR-CALDESC:Drumming for Wellness for Teens and Adults with Down syndrome 
 Summer Edition is coming soon! Register for this 7 week drumming experienc
 e being held at DSA. Cost for the class is $150.00 for the 7 week session.
X-WR-RELCALID:75da9e27cb4a1b81b4dd9ceab0b51cdc
X-WR-TIMEZONE:America/Chicago
BEGIN:VTIMEZONE
TZID:America/Chicago
BEGIN:STANDARD
TZNAME:CST
DTSTART:20241103T020000
TZOFFSETFROM:-0500
TZOFFSETTO:-0600
RDATE:20251102T020000
RDATE:20261101T020000
END:STANDARD
BEGIN:DAYLIGHT
TZNAME:CDT
DTSTART:20250309T020000
TZOFFSETFROM:-0600
TZOFFSETTO:-0500
RDATE:20260308T020000
END:DAYLIGHT
END:VTIMEZONE
BEGIN:VEVENT
UID:43b65ea8-ba0c-4b8d-a4a2-633685d8459a
DTSTAMP:20260422T020743Z
DESCRIPTION:Drumming for Wellness for Teens and Adults with Down syndrome S
 ummer Edition is coming soon! Register for this 7 week drumming experience
  being held at DSA. Cost for the class is $150.00 for the 7 week session.
DTSTART;TZID=America/Chicago:20250722T180000
DTEND;TZID=America/Chicago:20250722T190000
LOCATION:https://secure.lglforms.com/form_engine/s/4FRDNZ8bVZx5B8Is_eIiKg
SUMMARY:Drumming for Wellness Teens and Adults Summer Edition
END:VEVENT
END:VCALENDAR
