BEGIN:VCALENDAR
VERSION:2.0
PRODID:-//www.dsamidlands.org//NONSGML kigkonsult.se iCalcreator 2.30.10//
CALSCALE:GREGORIAN
METHOD:PUBLISH
UID:a2f0025b-d3ed-41c7-b958-b49d92686c32
X-WR-CALDESC:DSA Kids Zoo Camp\, July 21st-25th\, 8:30-3:00pm
X-WR-RELCALID:5af6fc659f01c0085f597cb97ac3f5b3
X-WR-TIMEZONE:America/Chicago
BEGIN:VTIMEZONE
TZID:America/Chicago
BEGIN:STANDARD
TZNAME:CST
DTSTART:20241103T020000
TZOFFSETFROM:-0500
TZOFFSETTO:-0600
RDATE:20251102T020000
RDATE:20261101T020000
END:STANDARD
BEGIN:DAYLIGHT
TZNAME:CDT
DTSTART:20250309T020000
TZOFFSETFROM:-0600
TZOFFSETTO:-0500
RDATE:20260308T020000
END:DAYLIGHT
END:VTIMEZONE
BEGIN:VEVENT
UID:3218b7d3-5284-4140-aaea-5682745b4ef1
DTSTAMP:20260422T015605Z
DESCRIPTION:DSA Kids Zoo Camp\, July 21st-25th\, 8:30-3:00pm
DTSTART;TZID=America/Chicago:20250721T050000
DTEND;TZID=America/Chicago:20250725T050001
LOCATION:https://secure.lglforms.com/form_engine/s/-HWI5LUbSDflQHw5I8kvSg
SUMMARY:DSA Kids Zoo Camp 5th-8th Grade
END:VEVENT
END:VCALENDAR
