BEGIN:VCALENDAR
VERSION:2.0
PRODID:-//www.dsamidlands.org//NONSGML kigkonsult.se iCalcreator 2.30.10//
CALSCALE:GREGORIAN
METHOD:PUBLISH
UID:945b8c18-1af8-4aa1-9713-9be66671e17e
X-WR-CALDESC:Jump into summer with DSA! Join us for DSA Pool Party night at
  Oak Heights! Saturday July 12th from 7pm-9pm.\nFeel free to invite friend
 s and family as DSA pays one flat fee. \n\n
X-WR-RELCALID:2430e9d6a35f2896e1fac34ad4ce5a47
X-WR-TIMEZONE:America/Chicago
BEGIN:VTIMEZONE
TZID:America/Chicago
BEGIN:STANDARD
TZNAME:CST
DTSTART:20241103T020000
TZOFFSETFROM:-0500
TZOFFSETTO:-0600
RDATE:20251102T020000
RDATE:20261101T020000
END:STANDARD
BEGIN:DAYLIGHT
TZNAME:CDT
DTSTART:20250309T020000
TZOFFSETFROM:-0600
TZOFFSETTO:-0500
RDATE:20260308T020000
END:DAYLIGHT
END:VTIMEZONE
BEGIN:VEVENT
UID:24f9e3bc-8a89-437f-837c-2e567e302b87
DTSTAMP:20260422T015503Z
DESCRIPTION:Jump into summer with DSA! Join us for DSA Pool Party night at 
 Oak Heights! Saturday July 12th from 7pm-9pm.\nFeel free to invite friends
  and family as DSA pays one flat fee. \n\n
DTSTART;TZID=America/Chicago:20250712T190000
DTEND;TZID=America/Chicago:20250712T210000
LOCATION:https://secure.lglforms.com/form_engine/s/lGaOW-f30Os3up2h-CagbQ?t
 =1749066418
SUMMARY:DSA Pool Party
END:VEVENT
END:VCALENDAR
