BEGIN:VCALENDAR
VERSION:2.0
PRODID:-//www.dsamidlands.org//NONSGML kigkonsult.se iCalcreator 2.30.10//
CALSCALE:GREGORIAN
METHOD:PUBLISH
UID:d11aa893-454a-42f0-b633-d99f67a6bd5d
X-WR-CALDESC:
X-WR-RELCALID:9e6482f9db062bd69a5949ddc7993b85
X-WR-TIMEZONE:America/Chicago
BEGIN:VTIMEZONE
TZID:America/Chicago
BEGIN:STANDARD
TZNAME:CST
DTSTART:20241103T020000
TZOFFSETFROM:-0500
TZOFFSETTO:-0600
RDATE:20251102T020000
RDATE:20261101T020000
END:STANDARD
BEGIN:DAYLIGHT
TZNAME:CDT
DTSTART:20250309T020000
TZOFFSETFROM:-0600
TZOFFSETTO:-0500
RDATE:20260308T020000
END:DAYLIGHT
END:VTIMEZONE
BEGIN:VEVENT
UID:f3da3c32-ec96-499f-b403-4a258cc5b2ed
DTSTAMP:20260422T015524Z
DESCRIPTION:
DTSTART;TZID=America/Chicago:20250712T130000
DTEND;TZID=America/Chicago:20250712T150000
LOCATION:
SUMMARY:D2B make up date
END:VEVENT
END:VCALENDAR
