BEGIN:VCALENDAR
VERSION:2.0
PRODID:-//www.dsamidlands.org//NONSGML kigkonsult.se iCalcreator 2.30.10//
CALSCALE:GREGORIAN
METHOD:PUBLISH
UID:811322bc-55ad-4c81-833e-a8438f4e94e2
X-WR-CALDESC:Drumming for Wellness for Teens and Adults with Down syndrome 
 Summer Edition is coming soon! Register for this 7 week drumming experienc
 e being held at DSA. Cost for the class is $150.00 for the 7 week session.
X-WR-RELCALID:8818a5f3cb4e0b6dac66a0e6febe33f8
X-WR-TIMEZONE:America/Chicago
BEGIN:VTIMEZONE
TZID:America/Chicago
BEGIN:STANDARD
TZNAME:CST
DTSTART:20241103T020000
TZOFFSETFROM:-0500
TZOFFSETTO:-0600
RDATE:20251102T020000
RDATE:20261101T020000
END:STANDARD
BEGIN:DAYLIGHT
TZNAME:CDT
DTSTART:20250309T020000
TZOFFSETFROM:-0600
TZOFFSETTO:-0500
RDATE:20260308T020000
END:DAYLIGHT
END:VTIMEZONE
BEGIN:VEVENT
UID:45618641-56b5-4ff5-b7b3-d2baed985d3c
DTSTAMP:20260422T020815Z
DESCRIPTION:Drumming for Wellness for Teens and Adults with Down syndrome S
 ummer Edition is coming soon! Register for this 7 week drumming experience
  being held at DSA. Cost for the class is $150.00 for the 7 week session.
DTSTART;TZID=America/Chicago:20250708T180000
DTEND;TZID=America/Chicago:20250708T190000
LOCATION:https://secure.lglforms.com/form_engine/s/4FRDNZ8bVZx5B8Is_eIiKg
SUMMARY:Drumming for Wellness Teens and Adults Summer Edition
END:VEVENT
END:VCALENDAR
