BEGIN:VCALENDAR
VERSION:2.0
PRODID:-//www.dsamidlands.org//NONSGML kigkonsult.se iCalcreator 2.30.10//
CALSCALE:GREGORIAN
METHOD:PUBLISH
UID:b98f642c-0d33-4026-85c5-7a941f427561
X-WR-CALDESC:DSA is hosting a Baby Shower for families who are expecting or
  have a little one with Down syndrome birth through two years of age. Meet
  other families\, hear from community partners\, and enjoy a fun start to 
 your day! The whole family is welcome to attend!
X-WR-RELCALID:11817988ba6bd493179a2480f032e363
X-WR-TIMEZONE:America/Chicago
BEGIN:VTIMEZONE
TZID:America/Chicago
BEGIN:STANDARD
TZNAME:CST
DTSTART:20241103T020000
TZOFFSETFROM:-0500
TZOFFSETTO:-0600
RDATE:20251102T020000
RDATE:20261101T020000
END:STANDARD
BEGIN:DAYLIGHT
TZNAME:CDT
DTSTART:20250309T020000
TZOFFSETFROM:-0600
TZOFFSETTO:-0500
RDATE:20260308T020000
END:DAYLIGHT
END:VTIMEZONE
BEGIN:VEVENT
UID:2010d340-704d-4e0b-b2be-31daf1e83bab
DTSTAMP:20260422T032417Z
DESCRIPTION:DSA is hosting a Baby Shower for families who are expecting or 
 have a little one with Down syndrome birth through two years of age. Meet 
 other families\, hear from community partners\, and enjoy a fun start to y
 our day! The whole family is welcome to attend!
DTSTART;TZID=America/Chicago:20250621T090000
DTEND;TZID=America/Chicago:20250621T110000
LOCATION:https://secure.lglforms.com/form_engine/s/8QaK4B51dW1Jex725BNJUQ
SUMMARY:DSA Baby Shower
END:VEVENT
END:VCALENDAR
