BEGIN:VCALENDAR
VERSION:2.0
PRODID:-//www.dsamidlands.org//NONSGML kigkonsult.se iCalcreator 2.30.10//
CALSCALE:GREGORIAN
METHOD:PUBLISH
UID:c5fff0a2-332a-4120-b6b5-939c611ff964
X-WR-CALDESC:
X-WR-RELCALID:3568a3fadb8f0c863592be1322230256
X-WR-TIMEZONE:America/Chicago
BEGIN:VTIMEZONE
TZID:America/Chicago
BEGIN:STANDARD
TZNAME:CST
DTSTART:20241103T020000
TZOFFSETFROM:-0500
TZOFFSETTO:-0600
RDATE:20251102T020000
RDATE:20261101T020000
END:STANDARD
BEGIN:DAYLIGHT
TZNAME:CDT
DTSTART:20250309T020000
TZOFFSETFROM:-0600
TZOFFSETTO:-0500
RDATE:20260308T020000
END:DAYLIGHT
END:VTIMEZONE
BEGIN:VEVENT
UID:34b196a6-2275-4aab-a6e0-2632ed75606f
DTSTAMP:20260422T032417Z
DESCRIPTION:
DTSTART;TZID=America/Chicago:20250619T050000
DTEND;TZID=America/Chicago:20250619T050001
LOCATION:
SUMMARY:DSA Office Closed Juneteenth
END:VEVENT
END:VCALENDAR
