BEGIN:VCALENDAR
VERSION:2.0
PRODID:-//www.dsamidlands.org//NONSGML kigkonsult.se iCalcreator 2.30.10//
CALSCALE:GREGORIAN
METHOD:PUBLISH
UID:6286cb6c-a307-40ba-8e82-b60199ab0cfb
X-WR-CALDESC:
X-WR-RELCALID:5fca7c7a5e6e54941651950ce106943d
X-WR-TIMEZONE:America/Chicago
BEGIN:VTIMEZONE
TZID:America/Chicago
BEGIN:STANDARD
TZNAME:CST
DTSTART:20241103T020000
TZOFFSETFROM:-0500
TZOFFSETTO:-0600
RDATE:20251102T020000
RDATE:20261101T020000
END:STANDARD
BEGIN:DAYLIGHT
TZNAME:CDT
DTSTART:20250309T020000
TZOFFSETFROM:-0600
TZOFFSETTO:-0500
RDATE:20260308T020000
END:DAYLIGHT
END:VTIMEZONE
BEGIN:VEVENT
UID:afba3631-8d9b-48e6-bcba-a16071bd8534
DTSTAMP:20260422T032534Z
DESCRIPTION:
DTSTART;TZID=America/Chicago:20250617T180000
DTEND;TZID=America/Chicago:20250617T193000
LOCATION:https://secure.lglforms.com/form_engine/s/Lve6g3n5xX2FgKJBKnHw9A?t
 =1754936692
SUMMARY:Down Syndrome Education Series (DSES)
END:VEVENT
END:VCALENDAR
