BEGIN:VCALENDAR
VERSION:2.0
PRODID:-//www.dsamidlands.org//NONSGML kigkonsult.se iCalcreator 2.30.10//
CALSCALE:GREGORIAN
METHOD:PUBLISH
UID:dd146015-fc76-4fd9-ac6e-4ba10bd5aaf0
X-WR-CALDESC:Join DSA Moms for Coffee Connections at Roast Coffeehouse in A
 ksarben. We will get a morning drink and then take a walk on the Keystone 
 Trail!
X-WR-RELCALID:428194f37db324c4736af35744c44880
X-WR-TIMEZONE:America/Chicago
BEGIN:VTIMEZONE
TZID:America/Chicago
BEGIN:STANDARD
TZNAME:CST
DTSTART:20241103T020000
TZOFFSETFROM:-0500
TZOFFSETTO:-0600
RDATE:20251102T020000
RDATE:20261101T020000
END:STANDARD
BEGIN:DAYLIGHT
TZNAME:CDT
DTSTART:20250309T020000
TZOFFSETFROM:-0600
TZOFFSETTO:-0500
RDATE:20260308T020000
END:DAYLIGHT
END:VTIMEZONE
BEGIN:VEVENT
UID:3c2ae5f4-7c44-4848-915f-3046cade8132
DTSTAMP:20260422T032438Z
DESCRIPTION:Join DSA Moms for Coffee Connections at Roast Coffeehouse in Ak
 sarben. We will get a morning drink and then take a walk on the Keystone T
 rail!
DTSTART;TZID=America/Chicago:20250614T093000
DTEND;TZID=America/Chicago:20250614T110000
LOCATION:1904 S. 67th St\, Suite 8\, Omaha\, NE 68106 US
SUMMARY:DSA Moms Coffee Connections
END:VEVENT
END:VCALENDAR
