BEGIN:VCALENDAR
VERSION:2.0
PRODID:-//www.dsamidlands.org//NONSGML kigkonsult.se iCalcreator 2.30.10//
CALSCALE:GREGORIAN
METHOD:PUBLISH
UID:bbcc80e3-a0d3-4ee9-bde4-3a3cd766f182
X-WR-CALDESC:
X-WR-RELCALID:b7575bfc4489653a870b54c87116928a
X-WR-TIMEZONE:America/Chicago
BEGIN:VTIMEZONE
TZID:America/Chicago
BEGIN:STANDARD
TZNAME:CST
DTSTART:20241103T020000
TZOFFSETFROM:-0500
TZOFFSETTO:-0600
RDATE:20251102T020000
RDATE:20261101T020000
END:STANDARD
BEGIN:DAYLIGHT
TZNAME:CDT
DTSTART:20250309T020000
TZOFFSETFROM:-0600
TZOFFSETTO:-0500
RDATE:20260308T020000
END:DAYLIGHT
END:VTIMEZONE
BEGIN:VEVENT
UID:44f18656-77f1-46f1-a474-7745e6ff869f
DTSTAMP:20260422T032423Z
DESCRIPTION:
DTSTART;TZID=America/Chicago:20250609T090000
DTEND;TZID=America/Chicago:20250613T160000
LOCATION:
SUMMARY:iCan Swim Camp
END:VEVENT
END:VCALENDAR
