BEGIN:VCALENDAR
VERSION:2.0
PRODID:-//www.dsamidlands.org//NONSGML kigkonsult.se iCalcreator 2.30.10//
CALSCALE:GREGORIAN
METHOD:PUBLISH
UID:d00b48b8-7600-400b-a0fd-89846ce635d9
X-WR-CALDESC:DSA Calendar Photo Shoot
X-WR-RELCALID:0fa4036666cd1ae89849259342e69a26
X-WR-TIMEZONE:America/Chicago
BEGIN:VTIMEZONE
TZID:America/Chicago
BEGIN:STANDARD
TZNAME:CST
DTSTART:20241103T020000
TZOFFSETFROM:-0500
TZOFFSETTO:-0600
RDATE:20251102T020000
RDATE:20261101T020000
END:STANDARD
BEGIN:DAYLIGHT
TZNAME:CDT
DTSTART:20250309T020000
TZOFFSETFROM:-0600
TZOFFSETTO:-0500
RDATE:20260308T020000
END:DAYLIGHT
END:VTIMEZONE
BEGIN:VEVENT
UID:49f5c3cc-0696-435a-8a3c-61a38825a358
DTSTAMP:20260422T032533Z
DESCRIPTION:DSA Calendar Photo Shoot
DTSTART;TZID=America/Chicago:20250607T080000
DTEND;TZID=America/Chicago:20250607T140000
LOCATION:10824 Old Mill Rd\, Suite 8\, Omaha\, NE 68154 US
SUMMARY:DSA Calendar Photo Shoot
END:VEVENT
END:VCALENDAR
