BEGIN:VCALENDAR
VERSION:2.0
PRODID:-//www.dsamidlands.org//NONSGML kigkonsult.se iCalcreator 2.30.10//
CALSCALE:GREGORIAN
METHOD:PUBLISH
UID:0adad46d-efab-4a36-a58b-e828c19b3db5
X-WR-CALDESC:We hope you can join us for the next GRANDS Luncheon on June 5
 th from 11:30-1:00. DSA will provide lunch for all! See you soon!\n\nDSA O
 ffice 10824 Old Mill Rd Suite 8 Omaha\, NE 68154
X-WR-RELCALID:702510b6262bf793c065db1c0301efe3
X-WR-TIMEZONE:America/Chicago
BEGIN:VTIMEZONE
TZID:America/Chicago
BEGIN:STANDARD
TZNAME:CST
DTSTART:20241103T020000
TZOFFSETFROM:-0500
TZOFFSETTO:-0600
RDATE:20251102T020000
RDATE:20261101T020000
END:STANDARD
BEGIN:DAYLIGHT
TZNAME:CDT
DTSTART:20250309T020000
TZOFFSETFROM:-0600
TZOFFSETTO:-0500
RDATE:20260308T020000
END:DAYLIGHT
END:VTIMEZONE
BEGIN:VEVENT
UID:c461f778-cf9e-4aa6-8350-8f286783b7ba
DTSTAMP:20260422T032540Z
DESCRIPTION:We hope you can join us for the next GRANDS Luncheon on June 5t
 h from 11:30-1:00. DSA will provide lunch for all! See you soon!\n\nDSA Of
 fice 10824 Old Mill Rd Suite 8 Omaha\, NE 68154
DTSTART;TZID=America/Chicago:20250605T113000
DTEND;TZID=America/Chicago:20250605T130000
LOCATION:https://secure.lglforms.com/form_engine/s/hAnRdDwOFsuER7Nf-W_T-A
SUMMARY:G.R.A.N.D.S Luncheon
END:VEVENT
END:VCALENDAR
