BEGIN:VCALENDAR
VERSION:2.0
PRODID:-//www.dsamidlands.org//NONSGML kigkonsult.se iCalcreator 2.30.10//
CALSCALE:GREGORIAN
METHOD:PUBLISH
UID:a0cf782e-9331-41ff-9740-0636d8a67a68
X-WR-CALDESC:
X-WR-RELCALID:d8e2ceeb3fc30cd3187b6df17277b4ca
X-WR-TIMEZONE:America/Chicago
BEGIN:VTIMEZONE
TZID:America/Chicago
BEGIN:STANDARD
TZNAME:CST
DTSTART:20241103T020000
TZOFFSETFROM:-0500
TZOFFSETTO:-0600
RDATE:20251102T020000
RDATE:20261101T020000
END:STANDARD
BEGIN:DAYLIGHT
TZNAME:CDT
DTSTART:20250309T020000
TZOFFSETFROM:-0600
TZOFFSETTO:-0500
RDATE:20260308T020000
END:DAYLIGHT
END:VTIMEZONE
BEGIN:VEVENT
UID:524215c7-9395-4e77-876f-52fb7ba34903
DTSTAMP:20260422T032555Z
DESCRIPTION:
DTSTART;TZID=America/Chicago:20250604T120000
DTEND;TZID=America/Chicago:20250604T130000
LOCATION:https://secure.lglforms.com/form_engine/s/eF0nmm8rqGY7gs1HDE4AAA
SUMMARY:June Lunch & Learn 'Autism Screening in Down Syndrome'
END:VEVENT
END:VCALENDAR
