BEGIN:VCALENDAR
VERSION:2.0
PRODID:-//www.dsamidlands.org//NONSGML kigkonsult.se iCalcreator 2.30.10//
CALSCALE:GREGORIAN
METHOD:PUBLISH
UID:b8c401bb-42fb-4eab-8cd0-1928ed8f9314
X-WR-CALDESC:Little Ones is a playgroup for families who are expecting or w
 ho have a little one from birth through three years of age. In May we will
  meet at Chirpy's Play Cafe for some playtime fun!
X-WR-RELCALID:502179df56ed73c2d09847ed9cf70fd3
X-WR-TIMEZONE:America/Chicago
BEGIN:VTIMEZONE
TZID:America/Chicago
BEGIN:STANDARD
TZNAME:CST
DTSTART:20241103T020000
TZOFFSETFROM:-0500
TZOFFSETTO:-0600
RDATE:20251102T020000
RDATE:20261101T020000
END:STANDARD
BEGIN:DAYLIGHT
TZNAME:CDT
DTSTART:20250309T020000
TZOFFSETFROM:-0600
TZOFFSETTO:-0500
RDATE:20260308T020000
END:DAYLIGHT
END:VTIMEZONE
BEGIN:VEVENT
UID:38787447-1b99-4087-8fe1-354255868b2f
DTSTAMP:20260422T043620Z
DESCRIPTION:Little Ones is a playgroup for families who are expecting or wh
 o have a little one from birth through three years of age. In May we will 
 meet at Chirpy's Play Cafe for some playtime fun!
DTSTART;TZID=America/Chicago:20250528T100000
DTEND;TZID=America/Chicago:20250528T110000
LOCATION:https://secure.lglforms.com/form_engine/s/voQ2eyVPFlHqJMxUUBoE_g
SUMMARY:Little Ones Play Group
END:VEVENT
END:VCALENDAR
