BEGIN:VCALENDAR
VERSION:2.0
PRODID:-//www.dsamidlands.org//NONSGML kigkonsult.se iCalcreator 2.30.10//
CALSCALE:GREGORIAN
METHOD:PUBLISH
UID:63b97132-edbe-477d-a7cc-c4560275a9c8
X-WR-CALDESC:DSA members pay $30 per session/$60 for non-members. Sessions 
 are 3 classes.
X-WR-RELCALID:f14230cc6d3cae07090d03067d26a7b6
X-WR-TIMEZONE:America/Chicago
BEGIN:VTIMEZONE
TZID:America/Chicago
BEGIN:STANDARD
TZNAME:CST
DTSTART:20241103T020000
TZOFFSETFROM:-0500
TZOFFSETTO:-0600
RDATE:20251102T020000
RDATE:20261101T020000
END:STANDARD
BEGIN:DAYLIGHT
TZNAME:CDT
DTSTART:20250309T020000
TZOFFSETFROM:-0600
TZOFFSETTO:-0500
RDATE:20260308T020000
END:DAYLIGHT
END:VTIMEZONE
BEGIN:VEVENT
UID:c6a3c6ad-aa2d-4902-a056-79d0e77b2da3
DTSTAMP:20260422T044335Z
DESCRIPTION:DSA members pay $30 per session/$60 for non-members. Sessions a
 re 3 classes.
DTSTART;TZID=America/Chicago:20250524T110000
DTEND;TZID=America/Chicago:20250524T120000
LOCATION:
SUMMARY:P.A.N.S. POSTPONED
END:VEVENT
END:VCALENDAR
