BEGIN:VCALENDAR
VERSION:2.0
PRODID:-//www.dsamidlands.org//NONSGML kigkonsult.se iCalcreator 2.30.10//
CALSCALE:GREGORIAN
METHOD:PUBLISH
UID:26325d95-aabf-4737-bb43-17077111ab8b
X-WR-CALDESC:DSA members pay $30 per session/$60 for non-members. Sessions 
 are 3 classes.
X-WR-RELCALID:f0621ba3d504e2e1acb4b8a291d0532a
X-WR-TIMEZONE:America/Chicago
BEGIN:VTIMEZONE
TZID:America/Chicago
BEGIN:STANDARD
TZNAME:CST
DTSTART:20241103T020000
TZOFFSETFROM:-0500
TZOFFSETTO:-0600
RDATE:20251102T020000
RDATE:20261101T020000
END:STANDARD
BEGIN:DAYLIGHT
TZNAME:CDT
DTSTART:20250309T020000
TZOFFSETFROM:-0600
TZOFFSETTO:-0500
RDATE:20260308T020000
END:DAYLIGHT
END:VTIMEZONE
BEGIN:VEVENT
UID:e2b011a0-6c0e-4e4e-8b12-3df925a39c35
DTSTAMP:20260422T044212Z
DESCRIPTION:DSA members pay $30 per session/$60 for non-members. Sessions a
 re 3 classes.
DTSTART;TZID=America/Chicago:20250524T100000
DTEND;TZID=America/Chicago:20250524T110000
LOCATION:
SUMMARY:P.A.N.S. POSTPONED
END:VEVENT
END:VCALENDAR
