BEGIN:VCALENDAR
VERSION:2.0
PRODID:-//www.dsamidlands.org//NONSGML kigkonsult.se iCalcreator 2.30.10//
CALSCALE:GREGORIAN
METHOD:PUBLISH
UID:5d668fcc-22db-4d0c-a8d4-419b7958f2f5
X-WR-CALDESC:
X-WR-RELCALID:f8975f4855e6bca263ef326a4d7cd2f8
X-WR-TIMEZONE:America/Chicago
BEGIN:VTIMEZONE
TZID:America/Chicago
BEGIN:STANDARD
TZNAME:CST
DTSTART:20241103T020000
TZOFFSETFROM:-0500
TZOFFSETTO:-0600
RDATE:20251102T020000
RDATE:20261101T020000
END:STANDARD
BEGIN:DAYLIGHT
TZNAME:CDT
DTSTART:20250309T020000
TZOFFSETFROM:-0600
TZOFFSETTO:-0500
RDATE:20260308T020000
END:DAYLIGHT
END:VTIMEZONE
BEGIN:VEVENT
UID:76a16d76-52bf-4418-beea-495a7eb48d8e
DTSTAMP:20260422T044346Z
DESCRIPTION:
DTSTART;TZID=America/Chicago:20250523T050000
DTEND;TZID=America/Chicago:20250526T050001
LOCATION:
SUMMARY:DSA Office Closed Memorial Day Holiday
END:VEVENT
END:VCALENDAR
