BEGIN:VCALENDAR
VERSION:2.0
PRODID:-//www.dsamidlands.org//NONSGML kigkonsult.se iCalcreator 2.30.10//
CALSCALE:GREGORIAN
METHOD:PUBLISH
UID:813c6b92-6817-4003-bf60-110724bec97f
X-WR-CALDESC:✨ ¡Atención familias y cuidadores! ✨\nLos invitamos cordialmen
 te a un valioso taller informativo sobre el autismo\, presentado por un es
 pecialista del Hospital de Niños de Omaha Dr. Jonathan Castillo.\nEn este 
 encuentro tendremos la oportunidad de conversar sobre doble diagnóstico de
  autismo y síndrome de Down\,\n¡Además\, contaremos con servicio de guarde
 ría disponible para que puedan asistir con tranquilidad y disfrutaremos de
  una deliciosa pizza! 🍕n🗓 Fecha:Jueves 22 de Mayo\n⏰ Hora: 6:30 a 8:00 pm
 \nnLugar: DSA Offices 10824 Old Mill Road Omaha\, Ne 68154\nEsta es una ex
 celente oportunidad para aprender\, resolver dudas y conectar con otras fa
 milias. ¡Los esperamos!\nInscribirse: https://tinyurl.com/arek4un7\n¡No se
  la pierdan!
X-WR-RELCALID:8b01be0cc3e50191c21ba8cd540aa7ac
X-WR-TIMEZONE:America/Chicago
BEGIN:VTIMEZONE
TZID:America/Chicago
BEGIN:STANDARD
TZNAME:CST
DTSTART:20241103T020000
TZOFFSETFROM:-0500
TZOFFSETTO:-0600
RDATE:20251102T020000
RDATE:20261101T020000
END:STANDARD
BEGIN:DAYLIGHT
TZNAME:CDT
DTSTART:20250309T020000
TZOFFSETFROM:-0600
TZOFFSETTO:-0500
RDATE:20260308T020000
END:DAYLIGHT
END:VTIMEZONE
BEGIN:VEVENT
UID:ad8c9356-84b2-4928-a743-a5f547726425
DTSTAMP:20260422T044905Z
DESCRIPTION:✨ ¡Atención familias y cuidadores! ✨\nLos invitamos cordialment
 e a un valioso taller informativo sobre el autismo\, presentado por un esp
 ecialista del Hospital de Niños de Omaha Dr. Jonathan Castillo.\nEn este e
 ncuentro tendremos la oportunidad de conversar sobre doble diagnóstico de 
 autismo y síndrome de Down\,\n¡Además\, contaremos con servicio de guarder
 ía disponible para que puedan asistir con tranquilidad y disfrutaremos de 
 una deliciosa pizza! 🍕n🗓 Fecha:Jueves 22 de Mayo\n⏰ Hora: 6:30 a 8:00 pm\n
 📍Lugar: DSA Offices 10824 Old Mill Road Omaha\, Ne 68154\nEsta es una exce
 lente oportunidad para aprender\, resolver dudas y conectar con otras fami
 lias. ¡Los esperamos!\nInscribirse: https://tinyurl.com/arek4un7\n¡No se l
 a pierdan!
DTSTART;TZID=America/Chicago:20250522T183000
DTEND;TZID=America/Chicago:20250522T200000
LOCATION:https://secure.lglforms.com/form_engine/s/XnGCBGMcR_w3SCYLUL-Wlg
SUMMARY:Escuela Para Familias Mayo 2025-Doble Diagnóstico- Síndrome de Down
  y Autismo
END:VEVENT
END:VCALENDAR
