BEGIN:VCALENDAR
VERSION:2.0
PRODID:-//www.dsamidlands.org//NONSGML kigkonsult.se iCalcreator 2.30.10//
CALSCALE:GREGORIAN
METHOD:PUBLISH
UID:2f3d0432-2e02-483e-9d83-af8a64352feb
X-WR-CALDESC:This club is free to DSA members who are teens and adults. Mee
 ting instructions will be shared ahead of the event in individual emails.
X-WR-RELCALID:ad236a3df84ca64f2adb3d83898f4cd6
X-WR-TIMEZONE:America/Chicago
BEGIN:VTIMEZONE
TZID:America/Chicago
BEGIN:STANDARD
TZNAME:CST
DTSTART:20241103T020000
TZOFFSETFROM:-0500
TZOFFSETTO:-0600
RDATE:20251102T020000
RDATE:20261101T020000
END:STANDARD
BEGIN:DAYLIGHT
TZNAME:CDT
DTSTART:20250309T020000
TZOFFSETFROM:-0600
TZOFFSETTO:-0500
RDATE:20260308T020000
END:DAYLIGHT
END:VTIMEZONE
BEGIN:VEVENT
UID:31b85061-9ade-472a-bd4c-33e7c99fb25f
DTSTAMP:20260422T044854Z
DESCRIPTION:This club is free to DSA members who are teens and adults. Meet
 ing instructions will be shared ahead of the event in individual emails.
DTSTART;TZID=America/Chicago:20250522T170000
DTEND;TZID=America/Chicago:20250522T180000
LOCATION:https://secure.lglforms.com/form_engine/s/LYWk_EmJG_EUza-95feLjw
SUMMARY:Walking/Running Club - Teens/Adults
END:VEVENT
END:VCALENDAR
