BEGIN:VCALENDAR
VERSION:2.0
PRODID:-//www.dsamidlands.org//NONSGML kigkonsult.se iCalcreator 2.30.10//
CALSCALE:GREGORIAN
METHOD:PUBLISH
UID:b33a0631-797d-4b59-af9d-314fc65de844
X-WR-CALDESC:Kids Connect 6th-8th We Rock the Spectrum Gym
X-WR-RELCALID:0a72fb1668bad2fe409281af9828cdd2
X-WR-TIMEZONE:America/Chicago
BEGIN:VTIMEZONE
TZID:America/Chicago
BEGIN:STANDARD
TZNAME:CST
DTSTART:20241103T020000
TZOFFSETFROM:-0500
TZOFFSETTO:-0600
RDATE:20251102T020000
RDATE:20261101T020000
END:STANDARD
BEGIN:DAYLIGHT
TZNAME:CDT
DTSTART:20250309T020000
TZOFFSETFROM:-0600
TZOFFSETTO:-0500
RDATE:20260308T020000
END:DAYLIGHT
END:VTIMEZONE
BEGIN:VEVENT
UID:ec9a798b-83c0-49d5-8517-be9d906f6e20
DTSTAMP:20260422T043459Z
DESCRIPTION:Kids Connect 6th-8th We Rock the Spectrum Gym
DTSTART;TZID=America/Chicago:20250521T173000
DTEND;TZID=America/Chicago:20250521T190000
LOCATION:https://secure.lglforms.com/form_engine/s/xBcfEh639wGvHIIeYHOTMQ
SUMMARY:May Kids Connect Open Gym
END:VEVENT
END:VCALENDAR
