BEGIN:VCALENDAR
VERSION:2.0
PRODID:-//www.dsamidlands.org//NONSGML kigkonsult.se iCalcreator 2.30.10//
CALSCALE:GREGORIAN
METHOD:PUBLISH
UID:103ddfdb-f481-4cb0-838b-4bb5252a60ee
X-WR-CALDESC:
X-WR-RELCALID:91453ea2ab853325c33f80c065b3ffd8
X-WR-TIMEZONE:America/Chicago
BEGIN:VTIMEZONE
TZID:America/Chicago
BEGIN:STANDARD
TZNAME:CST
DTSTART:20241103T020000
TZOFFSETFROM:-0500
TZOFFSETTO:-0600
RDATE:20251102T020000
RDATE:20261101T020000
END:STANDARD
BEGIN:DAYLIGHT
TZNAME:CDT
DTSTART:20250309T020000
TZOFFSETFROM:-0600
TZOFFSETTO:-0500
RDATE:20260308T020000
END:DAYLIGHT
END:VTIMEZONE
BEGIN:VEVENT
UID:83809b23-494d-4801-8533-eb696ebcc204
DTSTAMP:20260422T044702Z
DESCRIPTION:
DTSTART;TZID=America/Chicago:20250520T180000
DTEND;TZID=America/Chicago:20250520T193000
LOCATION:https://secure.lglforms.com/form_engine/s/AjVUa6D33-XRh7k4d5ZzUA
SUMMARY:Down Syndrome Education Series (DSES) on ZOOM
END:VEVENT
END:VCALENDAR
