BEGIN:VCALENDAR
VERSION:2.0
PRODID:-//www.dsamidlands.org//NONSGML kigkonsult.se iCalcreator 2.30.10//
CALSCALE:GREGORIAN
METHOD:PUBLISH
UID:0485d2b3-7c6c-4088-b06d-588d9ee9c728
X-WR-CALDESC:DSA members pay $30 per session/$60 for non-members. Sessions 
 are 3 classes.
X-WR-RELCALID:d7839ff52ab48246bebd129e715b0f0e
X-WR-TIMEZONE:America/Chicago
BEGIN:VTIMEZONE
TZID:America/Chicago
BEGIN:STANDARD
TZNAME:CST
DTSTART:20241103T020000
TZOFFSETFROM:-0500
TZOFFSETTO:-0600
RDATE:20251102T020000
RDATE:20261101T020000
END:STANDARD
BEGIN:DAYLIGHT
TZNAME:CDT
DTSTART:20250309T020000
TZOFFSETFROM:-0600
TZOFFSETTO:-0500
RDATE:20260308T020000
END:DAYLIGHT
END:VTIMEZONE
BEGIN:VEVENT
UID:67097dea-1546-4fa1-b2e7-f5d48a38a9d8
DTSTAMP:20260422T044208Z
DESCRIPTION:DSA members pay $30 per session/$60 for non-members. Sessions a
 re 3 classes.
DTSTART;TZID=America/Chicago:20250517T110000
DTEND;TZID=America/Chicago:20250517T120000
LOCATION:https://secure.lglforms.com/form_engine/s/ZIBPFcGESOCurMys5m7mng
SUMMARY:P.A.N.S. POSTPONED
END:VEVENT
END:VCALENDAR
