BEGIN:VCALENDAR
VERSION:2.0
PRODID:-//www.dsamidlands.org//NONSGML kigkonsult.se iCalcreator 2.30.10//
CALSCALE:GREGORIAN
METHOD:PUBLISH
UID:4c931722-18ce-499d-accc-b8fd3a5e5541
X-WR-CALDESC:DSA members pay $30 per session/$60 for non-members. Sessions 
 are 3 classes.
X-WR-RELCALID:71630df93bb5ab6920d2873e84e79914
X-WR-TIMEZONE:America/Chicago
BEGIN:VTIMEZONE
TZID:America/Chicago
BEGIN:STANDARD
TZNAME:CST
DTSTART:20241103T020000
TZOFFSETFROM:-0500
TZOFFSETTO:-0600
RDATE:20251102T020000
RDATE:20261101T020000
END:STANDARD
BEGIN:DAYLIGHT
TZNAME:CDT
DTSTART:20250309T020000
TZOFFSETFROM:-0600
TZOFFSETTO:-0500
RDATE:20260308T020000
END:DAYLIGHT
END:VTIMEZONE
BEGIN:VEVENT
UID:51a573c8-41a4-4e9a-908c-8c42f5a3fac1
DTSTAMP:20260422T044328Z
DESCRIPTION:DSA members pay $30 per session/$60 for non-members. Sessions a
 re 3 classes.
DTSTART;TZID=America/Chicago:20250517T100000
DTEND;TZID=America/Chicago:20250517T110000
LOCATION:https://secure.lglforms.com/form_engine/s/DG8cFuey0RSXuG9kb54o6g
SUMMARY:P.A.N.S. POSTPONED
END:VEVENT
END:VCALENDAR
