BEGIN:VCALENDAR
VERSION:2.0
PRODID:-//www.dsamidlands.org//NONSGML kigkonsult.se iCalcreator 2.30.10//
CALSCALE:GREGORIAN
METHOD:PUBLISH
UID:1507fe9f-5d75-4026-94b0-0cbc0860dff1
X-WR-CALDESC:May Kids Connect Open Gym
X-WR-RELCALID:d0ceb2fec5982f6c4117228b31a4ca27
X-WR-TIMEZONE:America/Chicago
BEGIN:VTIMEZONE
TZID:America/Chicago
BEGIN:STANDARD
TZNAME:CST
DTSTART:20241103T020000
TZOFFSETFROM:-0500
TZOFFSETTO:-0600
RDATE:20251102T020000
RDATE:20261101T020000
END:STANDARD
BEGIN:DAYLIGHT
TZNAME:CDT
DTSTART:20250309T020000
TZOFFSETFROM:-0600
TZOFFSETTO:-0500
RDATE:20260308T020000
END:DAYLIGHT
END:VTIMEZONE
BEGIN:VEVENT
UID:1c1f2126-aca3-4673-a1a0-541a9b71870c
DTSTAMP:20260422T043658Z
DESCRIPTION:May Kids Connect Open Gym
DTSTART;TZID=America/Chicago:20250514T173000
DTEND;TZID=America/Chicago:20250514T190000
LOCATION:https://secure.lglforms.com/form_engine/s/_8fZhN5ngYDxzFNFFWoVdA
SUMMARY:May Kids Connect Open Gym
END:VEVENT
END:VCALENDAR
