BEGIN:VCALENDAR
VERSION:2.0
PRODID:-//www.dsamidlands.org//NONSGML kigkonsult.se iCalcreator 2.30.10//
CALSCALE:GREGORIAN
METHOD:PUBLISH
UID:0d0e677b-019f-4b1c-821b-dc03d760ebe7
X-WR-CALDESC:Join us for DSA Moms Coffee Connections in May. A great way to
  start your day with coffee\, conversation\, and fun! In May we will meet 
 at Archetype Coffee in Millwork Commons\, 1229 Millwork Ave. See you soon!
 \n
X-WR-RELCALID:1b81c2b10f03ba17053f4de777f7cf20
X-WR-TIMEZONE:America/Chicago
BEGIN:VTIMEZONE
TZID:America/Chicago
BEGIN:STANDARD
TZNAME:CST
DTSTART:20241103T020000
TZOFFSETFROM:-0500
TZOFFSETTO:-0600
RDATE:20251102T020000
RDATE:20261101T020000
END:STANDARD
BEGIN:DAYLIGHT
TZNAME:CDT
DTSTART:20250309T020000
TZOFFSETFROM:-0600
TZOFFSETTO:-0500
RDATE:20260308T020000
END:DAYLIGHT
END:VTIMEZONE
BEGIN:VEVENT
UID:6f374c7b-c127-4652-ba95-9dcd11ead1b9
DTSTAMP:20260422T044208Z
DESCRIPTION:Join us for DSA Moms Coffee Connections in May. A great way to 
 start your day with coffee\, conversation\, and fun! In May we will meet a
 t Archetype Coffee in Millwork Commons\, 1229 Millwork Ave. See you soon!
 \n
DTSTART;TZID=America/Chicago:20250510T093000
DTEND;TZID=America/Chicago:20250510T110000
LOCATION:
SUMMARY:DSA Moms Coffee Connections
END:VEVENT
END:VCALENDAR
