BEGIN:VCALENDAR
VERSION:2.0
PRODID:-//www.dsamidlands.org//NONSGML kigkonsult.se iCalcreator 2.30.10//
CALSCALE:GREGORIAN
METHOD:PUBLISH
UID:7d56754c-befd-4f64-954c-f5384945fd41
X-WR-CALDESC:Creighton Men's Baseball Game \n\nCreighton vs. Villanova \nWh
 en: Saturday May 10th \nTime: 6:00pm\n\nTickets are FREE! Thanks to the am
 azing Creighton Community Ticket Program\, we have 125 tickets available—f
 irst come\, first served!\n\nWho’s Eligible?\nTickets are for Individuals 
 with Down syndrome and their immediate family members (Grandparents includ
 ed!).\n\nTickets will be mailed out on April 28th\nReserve your tickets no
 w before they’re gone!
X-WR-RELCALID:18f948c41d4f4afb17274bdd476ccdeb
X-WR-TIMEZONE:America/Chicago
BEGIN:VTIMEZONE
TZID:America/Chicago
BEGIN:STANDARD
TZNAME:CST
DTSTART:20241103T020000
TZOFFSETFROM:-0500
TZOFFSETTO:-0600
RDATE:20251102T020000
RDATE:20261101T020000
END:STANDARD
BEGIN:DAYLIGHT
TZNAME:CDT
DTSTART:20250309T020000
TZOFFSETFROM:-0600
TZOFFSETTO:-0500
RDATE:20260308T020000
END:DAYLIGHT
END:VTIMEZONE
BEGIN:VEVENT
UID:84ee8212-3532-4b4f-90ac-df1838d0c547
DTSTAMP:20260422T043621Z
DESCRIPTION:Creighton Men's Baseball Game \n\nCreighton vs. Villanova \nWhe
 n: Saturday May 10th \nTime: 6:00pm\n\nTickets are FREE! Thanks to the ama
 zing Creighton Community Ticket Program\, we have 125 tickets available—fi
 rst come\, first served!\n\nWho’s Eligible?\nTickets are for Individuals w
 ith Down syndrome and their immediate family members (Grandparents include
 d!).\n\nTickets will be mailed out on April 28th\nReserve your tickets now
  before they’re gone!
DTSTART;TZID=America/Chicago:20250510T180000
DTEND;TZID=America/Chicago:20250510T200000
LOCATION:https://secure.lglforms.com/form_engine/s/4c4LJaFXu-H_MKcB5OZA-g?t
 =1744672885
SUMMARY:Creighton Men's Baseball
END:VEVENT
END:VCALENDAR
