BEGIN:VCALENDAR
VERSION:2.0
PRODID:-//www.dsamidlands.org//NONSGML kigkonsult.se iCalcreator 2.30.10//
CALSCALE:GREGORIAN
METHOD:PUBLISH
UID:098ed0d3-160f-4c09-bac4-3b9afbea2497
X-WR-CALDESC:May Kids Connect Pre K - 2nd Grade
X-WR-RELCALID:7e64f9cbdd99fe6023f96ab3154b25d8
X-WR-TIMEZONE:America/Chicago
BEGIN:VTIMEZONE
TZID:America/Chicago
BEGIN:STANDARD
TZNAME:CST
DTSTART:20241103T020000
TZOFFSETFROM:-0500
TZOFFSETTO:-0600
RDATE:20251102T020000
RDATE:20261101T020000
END:STANDARD
BEGIN:DAYLIGHT
TZNAME:CDT
DTSTART:20250309T020000
TZOFFSETFROM:-0600
TZOFFSETTO:-0500
RDATE:20260308T020000
END:DAYLIGHT
END:VTIMEZONE
BEGIN:VEVENT
UID:126c1b6b-5bc1-484b-8582-d6f4d76d5d36
DTSTAMP:20260422T043626Z
DESCRIPTION:May Kids Connect Pre K - 2nd Grade
DTSTART;TZID=America/Chicago:20250507T173000
DTEND;TZID=America/Chicago:20250507T190000
LOCATION:https://secure.lglforms.com/form_engine/s/lv01x5aDNQPYtG7Rg6UuDw
SUMMARY:Kids Connect Pre K - 2nd Grade
END:VEVENT
END:VCALENDAR
