BEGIN:VCALENDAR
VERSION:2.0
PRODID:-//www.dsamidlands.org//NONSGML kigkonsult.se iCalcreator 2.30.10//
CALSCALE:GREGORIAN
METHOD:PUBLISH
UID:2fae9d09-0aa7-4e96-920a-b2d1519e652d
X-WR-CALDESC:
X-WR-RELCALID:690df5c0a990e8bf9af6f497cf2489e3
X-WR-TIMEZONE:America/Chicago
BEGIN:VTIMEZONE
TZID:America/Chicago
BEGIN:STANDARD
TZNAME:CST
DTSTART:20241103T020000
TZOFFSETFROM:-0500
TZOFFSETTO:-0600
RDATE:20251102T020000
RDATE:20261101T020000
END:STANDARD
BEGIN:DAYLIGHT
TZNAME:CDT
DTSTART:20250309T020000
TZOFFSETFROM:-0600
TZOFFSETTO:-0500
RDATE:20260308T020000
END:DAYLIGHT
END:VTIMEZONE
BEGIN:VEVENT
UID:78c00919-d447-44fc-996b-f6741ab60da8
DTSTAMP:20260422T043657Z
DESCRIPTION:
DTSTART;TZID=America/Chicago:20250503T050000
DTEND;TZID=America/Chicago:20250503T050001
LOCATION:https://dsamidlands.ejoinme.org/MyEvents/2025BuildingtheFutureGala
 /tabid/1524022/Default.aspx
SUMMARY:The Building the Future Gala
END:VEVENT
END:VCALENDAR
