BEGIN:VCALENDAR
VERSION:2.0
PRODID:-//www.dsamidlands.org//NONSGML kigkonsult.se iCalcreator 2.30.10//
CALSCALE:GREGORIAN
METHOD:PUBLISH
UID:882e1d87-d978-473d-b7cb-4695a3dccd89
X-WR-CALDESC:
X-WR-RELCALID:b39d1973d3d7e834c5212a432b4caa3d
X-WR-TIMEZONE:America/Chicago
BEGIN:VTIMEZONE
TZID:America/Chicago
BEGIN:STANDARD
TZNAME:CST
DTSTART:20241103T020000
TZOFFSETFROM:-0500
TZOFFSETTO:-0600
RDATE:20251102T020000
RDATE:20261101T020000
END:STANDARD
BEGIN:DAYLIGHT
TZNAME:CDT
DTSTART:20250309T020000
TZOFFSETFROM:-0600
TZOFFSETTO:-0500
RDATE:20260308T020000
END:DAYLIGHT
END:VTIMEZONE
BEGIN:VEVENT
UID:0c690439-a141-4b12-a5aa-ab44fa0332eb
DTSTAMP:20260422T043620Z
DESCRIPTION:
DTSTART;TZID=America/Chicago:20250503T090000
DTEND;TZID=America/Chicago:20250503T100000
LOCATION:https://secure.lglforms.com/form_engine/s/h3pPTVzAqkMaYeMpqt1Hlg
SUMMARY:Breakfast Club
END:VEVENT
END:VCALENDAR
