BEGIN:VCALENDAR
VERSION:2.0
PRODID:-//www.dsamidlands.org//NONSGML kigkonsult.se iCalcreator 2.30.10//
CALSCALE:GREGORIAN
METHOD:PUBLISH
UID:08dbd810-4170-4c05-b972-dd3f09fde661
X-WR-CALDESC:Seguimiento de la presentacion de Marzo\n\nPresentadora: Ada L
 una PTI Nebraska\nAda compartirá información\, requisitos de elegibilidad 
 y beneficios de los waivers en Nebraska y ofrecerá a los miembros de DSA l
 a oportunidad de hacer preguntas. \nPor favor\, regístrese para una de las
  fechas de las sesiones: \n27 de marzo: 6:30-8:00 pm.\n24 de abril de 6:30
  a 8:00 pm.\nAda también estará disponible para ayudar con la instrucción 
 de solicitud guiada (si así lo desea).\n
X-WR-RELCALID:e2398188524ed8b658cdcbc7ea61b3f9
X-WR-TIMEZONE:America/Chicago
BEGIN:VTIMEZONE
TZID:America/Chicago
BEGIN:STANDARD
TZNAME:CST
DTSTART:20241103T020000
TZOFFSETFROM:-0500
TZOFFSETTO:-0600
RDATE:20251102T020000
END:STANDARD
BEGIN:DAYLIGHT
TZNAME:CDT
DTSTART:20250309T020000
TZOFFSETFROM:-0600
TZOFFSETTO:-0500
RDATE:20260308T020000
END:DAYLIGHT
END:VTIMEZONE
BEGIN:VEVENT
UID:4e98b1d1-b57f-4877-9754-d179e7515693
DTSTAMP:20260422T060438Z
DESCRIPTION:Seguimiento de la presentacion de Marzo\n\nPresentadora: Ada Lu
 na PTI Nebraska\nAda compartirá información\, requisitos de elegibilidad y
  beneficios de los waivers en Nebraska y ofrecerá a los miembros de DSA la
  oportunidad de hacer preguntas. \nPor favor\, regístrese para una de las 
 fechas de las sesiones: \n27 de marzo: 6:30-8:00 pm.\n24 de abril de 6:30 
 a 8:00 pm.\nAda también estará disponible para ayudar con la instrucción d
 e solicitud guiada (si así lo desea).\n
DTSTART;TZID=America/Chicago:20250424T183000
DTEND;TZID=America/Chicago:20250424T200000
LOCATION:Este Evento a sido Cancelado
SUMMARY:Escuela Para Familias April 2025-  (Cancelado)
END:VEVENT
END:VCALENDAR
