BEGIN:VCALENDAR
VERSION:2.0
PRODID:-//www.dsamidlands.org//NONSGML kigkonsult.se iCalcreator 2.30.10//
CALSCALE:GREGORIAN
METHOD:PUBLISH
UID:891b28b5-e0b9-4000-9dee-3fa23b71d44f
X-WR-CALDESC:Teen Connect Pickleball
X-WR-RELCALID:eca6f43b31e3cd719f47a1e3d7632a89
X-WR-TIMEZONE:America/Chicago
BEGIN:VTIMEZONE
TZID:America/Chicago
BEGIN:STANDARD
TZNAME:CST
DTSTART:20241103T020000
TZOFFSETFROM:-0500
TZOFFSETTO:-0600
RDATE:20251102T020000
END:STANDARD
BEGIN:DAYLIGHT
TZNAME:CDT
DTSTART:20250309T020000
TZOFFSETFROM:-0600
TZOFFSETTO:-0500
RDATE:20260308T020000
END:DAYLIGHT
END:VTIMEZONE
BEGIN:VEVENT
UID:84637648-4f29-44bd-bda3-147b7eae3f45
DTSTAMP:20260422T060255Z
DESCRIPTION:Teen Connect Pickleball
DTSTART;TZID=America/Chicago:20250423T173000
DTEND;TZID=America/Chicago:20250423T184500
LOCATION:https://secure.lglforms.com/form_engine/s/0alY5w_uRpD5KXoMCHzWKw
SUMMARY:Teen Connect 9th-12th Pickleball
END:VEVENT
END:VCALENDAR
