BEGIN:VCALENDAR
VERSION:2.0
PRODID:-//www.dsamidlands.org//NONSGML kigkonsult.se iCalcreator 2.30.10//
CALSCALE:GREGORIAN
METHOD:PUBLISH
UID:0c0be575-884e-416c-aace-51b79cb62623
X-WR-CALDESC:Join us at the DSA office for Little Ones in April! Little One
 s is a playgroup for families who are expecting or who have a little one f
 rom birth through three years of age. Come join the fun from 10 to 11 a.m.
 !\nDSA Office 10824 Old Mill Rd. Suite 8
X-WR-RELCALID:fdaf03db517bb0122e7b379fe4941766
X-WR-TIMEZONE:America/Chicago
BEGIN:VTIMEZONE
TZID:America/Chicago
BEGIN:STANDARD
TZNAME:CST
DTSTART:20241103T020000
TZOFFSETFROM:-0500
TZOFFSETTO:-0600
RDATE:20251102T020000
END:STANDARD
BEGIN:DAYLIGHT
TZNAME:CDT
DTSTART:20250309T020000
TZOFFSETFROM:-0600
TZOFFSETTO:-0500
RDATE:20260308T020000
END:DAYLIGHT
END:VTIMEZONE
BEGIN:VEVENT
UID:a977a428-dffa-43a5-be86-38934ec6e6ca
DTSTAMP:20260422T055444Z
DESCRIPTION:Join us at the DSA office for Little Ones in April! Little Ones
  is a playgroup for families who are expecting or who have a little one fr
 om birth through three years of age. Come join the fun from 10 to 11 a.m.!
 \nDSA Office 10824 Old Mill Rd. Suite 8
DTSTART;TZID=America/Chicago:20250423T100000
DTEND;TZID=America/Chicago:20250423T110000
LOCATION:https://secure.lglforms.com/form_engine/s/P6aSet21vlqZdfki8bBs-A
SUMMARY:Little Ones Play Group CANCELED
END:VEVENT
END:VCALENDAR
