BEGIN:VCALENDAR
VERSION:2.0
PRODID:-//www.dsamidlands.org//NONSGML kigkonsult.se iCalcreator 2.30.10//
CALSCALE:GREGORIAN
METHOD:PUBLISH
UID:957f5b29-665d-4103-88b7-6ab6c4c1fd98
X-WR-CALDESC:
X-WR-RELCALID:fb7ee1188b0204cd1718be8836065298
X-WR-TIMEZONE:America/Chicago
BEGIN:VTIMEZONE
TZID:America/Chicago
BEGIN:STANDARD
TZNAME:CST
DTSTART:20241103T020000
TZOFFSETFROM:-0500
TZOFFSETTO:-0600
RDATE:20251102T020000
END:STANDARD
BEGIN:DAYLIGHT
TZNAME:CDT
DTSTART:20250309T020000
TZOFFSETFROM:-0600
TZOFFSETTO:-0500
RDATE:20260308T020000
END:DAYLIGHT
END:VTIMEZONE
BEGIN:VEVENT
UID:7326a348-eb6c-4d5f-b97e-1a1ce9c1a3f7
DTSTAMP:20260422T055206Z
DESCRIPTION:
DTSTART;TZID=America/Chicago:20250421T050000
DTEND;TZID=America/Chicago:20250421T050001
LOCATION:
SUMMARY:DSA Office Closed Easter Monday
END:VEVENT
END:VCALENDAR
