BEGIN:VCALENDAR
VERSION:2.0
PRODID:-//www.dsamidlands.org//NONSGML kigkonsult.se iCalcreator 2.30.10//
CALSCALE:GREGORIAN
METHOD:PUBLISH
UID:aa3b5b15-4246-45b7-9f55-d52969257522
X-WR-CALDESC:
X-WR-RELCALID:90e7fc3cb03b88ba995b45e4062a8cd3
X-WR-TIMEZONE:America/Chicago
BEGIN:VTIMEZONE
TZID:America/Chicago
BEGIN:STANDARD
TZNAME:CST
DTSTART:20241103T020000
TZOFFSETFROM:-0500
TZOFFSETTO:-0600
RDATE:20251102T020000
END:STANDARD
BEGIN:DAYLIGHT
TZNAME:CDT
DTSTART:20250309T020000
TZOFFSETFROM:-0600
TZOFFSETTO:-0500
RDATE:20260308T020000
END:DAYLIGHT
END:VTIMEZONE
BEGIN:VEVENT
UID:1a6baddb-0ae3-4399-9d6b-cb680549d382
DTSTAMP:20260422T060336Z
DESCRIPTION:
DTSTART;TZID=America/Chicago:20250415T180000
DTEND;TZID=America/Chicago:20250415T200000
LOCATION:https://secure.lglforms.com/form_engine/s/S1Sh5BrkMPgTaVXsKXsLvQ
SUMMARY:Down Syndrome Education Series (DSES)
END:VEVENT
END:VCALENDAR
