BEGIN:VCALENDAR
VERSION:2.0
PRODID:-//www.dsamidlands.org//NONSGML kigkonsult.se iCalcreator 2.30.10//
CALSCALE:GREGORIAN
METHOD:PUBLISH
UID:e7b16231-db28-406c-81d8-e3fc4cf7cae7
X-WR-CALDESC:
X-WR-RELCALID:37a5889d54a64197a4b928c60eb64b57
X-WR-TIMEZONE:America/Chicago
BEGIN:VTIMEZONE
TZID:America/Chicago
BEGIN:STANDARD
TZNAME:CST
DTSTART:20241103T020000
TZOFFSETFROM:-0500
TZOFFSETTO:-0600
RDATE:20251102T020000
END:STANDARD
BEGIN:DAYLIGHT
TZNAME:CDT
DTSTART:20250309T020000
TZOFFSETFROM:-0600
TZOFFSETTO:-0500
RDATE:20260308T020000
END:DAYLIGHT
END:VTIMEZONE
BEGIN:VEVENT
UID:770d506d-ce79-4c2c-86e3-67155e5dd1af
DTSTAMP:20260422T060046Z
DESCRIPTION:
DTSTART;TZID=America/Chicago:20250415T163000
DTEND;TZID=America/Chicago:20250415T173000
LOCATION:https://secure.lglforms.com/form_engine/s/RsC2B1dYdm8gfR4Lo8wGaw
SUMMARY:Circles (Ages 12-18)
END:VEVENT
END:VCALENDAR
