BEGIN:VCALENDAR
VERSION:2.0
PRODID:-//www.dsamidlands.org//NONSGML kigkonsult.se iCalcreator 2.30.10//
CALSCALE:GREGORIAN
METHOD:PUBLISH
UID:f987b594-384c-4b1a-9b87-df1ca16ddf69
X-WR-CALDESC:Join us for an exciting egg hunt hosted by the DSA GRANDS!\nAl
 l DSA Families are invited! Siblings are welcome to participate.\n\nEvent 
 Details:\nDate: Sunday\, April 13th\nTime: 1:00 PM \nLocation: Papillion L
 anding Field House\n1022 W Lincoln St\, Papillion\, NE 68046\n\nEaster Egg
  Hunt start promptly at 1:00pm and only lasts as long as there are eggs le
 ft.
X-WR-RELCALID:21e85c4dad82e27d39a613503ec5c163
X-WR-TIMEZONE:America/Chicago
BEGIN:VTIMEZONE
TZID:America/Chicago
BEGIN:STANDARD
TZNAME:CST
DTSTART:20241103T020000
TZOFFSETFROM:-0500
TZOFFSETTO:-0600
RDATE:20251102T020000
END:STANDARD
BEGIN:DAYLIGHT
TZNAME:CDT
DTSTART:20250309T020000
TZOFFSETFROM:-0600
TZOFFSETTO:-0500
RDATE:20260308T020000
END:DAYLIGHT
END:VTIMEZONE
BEGIN:VEVENT
UID:7beebb05-234a-438d-ae43-fb8f43649d37
DTSTAMP:20260422T055205Z
DESCRIPTION:Join us for an exciting egg hunt hosted by the DSA GRANDS!\nAll
  DSA Families are invited! Siblings are welcome to participate.\n\nEvent D
 etails:\nDate: Sunday\, April 13th\nTime: 1:00 PM \nLocation: Papillion La
 nding Field House\n1022 W Lincoln St\, Papillion\, NE 68046\n\nEaster Egg 
 Hunt start promptly at 1:00pm and only lasts as long as there are eggs lef
 t.
DTSTART;TZID=America/Chicago:20250413T130000
DTEND;TZID=America/Chicago:20250413T140000
LOCATION:https://secure.lglforms.com/form_engine/s/Bxpdm_B9Jwmzcd5tBzmfeg?t
 =1741793300
SUMMARY:GRANDS Egg Hunt
END:VEVENT
END:VCALENDAR
