BEGIN:VCALENDAR
VERSION:2.0
PRODID:-//www.dsamidlands.org//NONSGML kigkonsult.se iCalcreator 2.30.10//
CALSCALE:GREGORIAN
METHOD:PUBLISH
UID:6612c94b-cf21-41fc-b94f-0f0f439d91b8
X-WR-CALDESC:
X-WR-RELCALID:2612db2ebfd875d520e1ce1d99158182
X-WR-TIMEZONE:America/Chicago
BEGIN:VTIMEZONE
TZID:America/Chicago
BEGIN:STANDARD
TZNAME:CST
DTSTART:20241103T020000
TZOFFSETFROM:-0500
TZOFFSETTO:-0600
RDATE:20251102T020000
END:STANDARD
BEGIN:DAYLIGHT
TZNAME:CDT
DTSTART:20250309T020000
TZOFFSETFROM:-0600
TZOFFSETTO:-0500
RDATE:20260308T020000
END:DAYLIGHT
END:VTIMEZONE
BEGIN:VEVENT
UID:4009c179-a443-4923-a849-1c2494ed547f
DTSTAMP:20260422T055236Z
DESCRIPTION:
DTSTART;TZID=America/Chicago:20250412T130000
DTEND;TZID=America/Chicago:20250412T150000
LOCATION:https://secure.lglforms.com/form_engine/s/6lZy-XCtkQv72R1umJGzTA
SUMMARY:Siblings Connect
END:VEVENT
END:VCALENDAR
