BEGIN:VCALENDAR
VERSION:2.0
PRODID:-//www.dsamidlands.org//NONSGML kigkonsult.se iCalcreator 2.30.10//
CALSCALE:GREGORIAN
METHOD:PUBLISH
UID:9c6e3376-0e73-4a93-8f85-ebfb1bed3a06
X-WR-CALDESC:DSA members pay $70 per session/$140 for non-members. Sessions
  are 7 classes.
X-WR-RELCALID:5cd32cff3ad292fc5cd16f2e2fbab116
X-WR-TIMEZONE:America/Chicago
BEGIN:VTIMEZONE
TZID:America/Chicago
BEGIN:STANDARD
TZNAME:CST
DTSTART:20241103T020000
TZOFFSETFROM:-0500
TZOFFSETTO:-0600
RDATE:20251102T020000
END:STANDARD
BEGIN:DAYLIGHT
TZNAME:CDT
DTSTART:20250309T020000
TZOFFSETFROM:-0600
TZOFFSETTO:-0500
RDATE:20260308T020000
END:DAYLIGHT
END:VTIMEZONE
BEGIN:VEVENT
UID:d646a428-acbf-4ae4-b324-2fd29e64e7ee
DTSTAMP:20260422T060057Z
DESCRIPTION:DSA members pay $70 per session/$140 for non-members. Sessions 
 are 7 classes.
DTSTART;TZID=America/Chicago:20250412T130000
DTEND;TZID=America/Chicago:20250412T140000
LOCATION:https://secure.lglforms.com/form_engine/s/hMqV3FC5LrgS_kECFNCApA
SUMMARY:Improv (Ages 19 and over)
END:VEVENT
END:VCALENDAR
