BEGIN:VCALENDAR
VERSION:2.0
PRODID:-//www.dsamidlands.org//NONSGML kigkonsult.se iCalcreator 2.30.10//
CALSCALE:GREGORIAN
METHOD:PUBLISH
UID:c377a6a8-087d-4896-8177-b81ae4dea09e
X-WR-CALDESC:Kids Connect 3rd-5th grade April
X-WR-RELCALID:55e87b99ab76f37530ab9c659a667e6c
X-WR-TIMEZONE:America/Chicago
BEGIN:VTIMEZONE
TZID:America/Chicago
BEGIN:STANDARD
TZNAME:CST
DTSTART:20241103T020000
TZOFFSETFROM:-0500
TZOFFSETTO:-0600
RDATE:20251102T020000
END:STANDARD
BEGIN:DAYLIGHT
TZNAME:CDT
DTSTART:20250309T020000
TZOFFSETFROM:-0600
TZOFFSETTO:-0500
RDATE:20260308T020000
END:DAYLIGHT
END:VTIMEZONE
BEGIN:VEVENT
UID:ead777a1-7494-44d8-a7f4-20931b20d9a8
DTSTAMP:20260422T055935Z
DESCRIPTION:Kids Connect 3rd-5th grade April
DTSTART;TZID=America/Chicago:20250409T173000
DTEND;TZID=America/Chicago:20250409T190000
LOCATION:https://secure.lglforms.com/form_engine/s/KYF5goazMZ4cw1Q2Mx_3SA
SUMMARY:Kids Connect 3-5th Grade
END:VEVENT
END:VCALENDAR
