BEGIN:VCALENDAR
VERSION:2.0
PRODID:-//www.dsamidlands.org//NONSGML kigkonsult.se iCalcreator 2.30.10//
CALSCALE:GREGORIAN
METHOD:PUBLISH
UID:1ac5a3d7-61ba-4788-bf5c-a0f12f8f9d25
X-WR-CALDESC:
X-WR-RELCALID:2da3dfe99f286ada4904a4a07f088308
X-WR-TIMEZONE:America/Chicago
BEGIN:VTIMEZONE
TZID:America/Chicago
BEGIN:STANDARD
TZNAME:CST
DTSTART:20241103T020000
TZOFFSETFROM:-0500
TZOFFSETTO:-0600
RDATE:20251102T020000
END:STANDARD
BEGIN:DAYLIGHT
TZNAME:CDT
DTSTART:20250309T020000
TZOFFSETFROM:-0600
TZOFFSETTO:-0500
RDATE:20260308T020000
END:DAYLIGHT
END:VTIMEZONE
BEGIN:VEVENT
UID:5315dc5d-7927-46de-8a39-03667e252386
DTSTAMP:20260422T060401Z
DESCRIPTION:
DTSTART;TZID=America/Chicago:20250408T180000
DTEND;TZID=America/Chicago:20250408T190000
LOCATION:https://secure.lglforms.com/form_engine/s/uonSXXBbn_ePclQ1essdxg
SUMMARY:DSES April with Dr. Smith\, MMI Transition Healthcare Clinic
END:VEVENT
END:VCALENDAR
