BEGIN:VCALENDAR
VERSION:2.0
PRODID:-//www.dsamidlands.org//NONSGML kigkonsult.se iCalcreator 2.30.10//
CALSCALE:GREGORIAN
METHOD:PUBLISH
UID:ee61b057-d6ee-4fa9-b604-49fe2a2d961f
X-WR-CALDESC:
X-WR-RELCALID:a96edb383393dc8164a05f7f7fd9cb01
X-WR-TIMEZONE:America/Chicago
BEGIN:VTIMEZONE
TZID:America/Chicago
BEGIN:STANDARD
TZNAME:CST
DTSTART:20241103T020000
TZOFFSETFROM:-0500
TZOFFSETTO:-0600
RDATE:20251102T020000
END:STANDARD
BEGIN:DAYLIGHT
TZNAME:CDT
DTSTART:20250309T020000
TZOFFSETFROM:-0600
TZOFFSETTO:-0500
RDATE:20260308T020000
END:DAYLIGHT
END:VTIMEZONE
BEGIN:VEVENT
UID:d8b40f1e-4339-4f9f-b82f-1c68f27b640f
DTSTAMP:20260422T055951Z
DESCRIPTION:
DTSTART;TZID=America/Chicago:20250408T163000
DTEND;TZID=America/Chicago:20250408T173000
LOCATION:https://secure.lglforms.com/form_engine/s/RsC2B1dYdm8gfR4Lo8wGaw
SUMMARY:Circles (Ages 12-18)
END:VEVENT
END:VCALENDAR
