BEGIN:VCALENDAR
VERSION:2.0
PRODID:-//www.dsamidlands.org//NONSGML kigkonsult.se iCalcreator 2.30.10//
CALSCALE:GREGORIAN
METHOD:PUBLISH
UID:3ee851e3-1516-45ff-bcab-af0398e637da
X-WR-CALDESC:Join us for the Moms Appreciation Brunch!\nYou work hard Moms\
 , and we want to say THANKS! Join us for the Moms Appreciation Brunch. The
 re is no cost to you\, we just ask that you RSVP*.\n\n*We are charged per 
 person so if you do RSVP and then can't make it\, please let us know.\n\nE
 vent Details:\nSunday\, April 6th 9am-11am\n\nOak Hills Country Club\n1232
 5 Golfing Green Dr.\nOmaha\, NE 68137
X-WR-RELCALID:e2bb8175fd078c81edd414f5d1c578c5
X-WR-TIMEZONE:America/Chicago
BEGIN:VTIMEZONE
TZID:America/Chicago
BEGIN:STANDARD
TZNAME:CST
DTSTART:20241103T020000
TZOFFSETFROM:-0500
TZOFFSETTO:-0600
RDATE:20251102T020000
END:STANDARD
BEGIN:DAYLIGHT
TZNAME:CDT
DTSTART:20250309T020000
TZOFFSETFROM:-0600
TZOFFSETTO:-0500
RDATE:20260308T020000
END:DAYLIGHT
END:VTIMEZONE
BEGIN:VEVENT
UID:ecc29f4a-5189-4530-9586-6a302685f804
DTSTAMP:20260422T055333Z
DESCRIPTION:Join us for the Moms Appreciation Brunch!\nYou work hard Moms\,
  and we want to say THANKS! Join us for the Moms Appreciation Brunch. Ther
 e is no cost to you\, we just ask that you RSVP*.\n\n*We are charged per p
 erson so if you do RSVP and then can't make it\, please let us know.\n\nEv
 ent Details:\nSunday\, April 6th 9am-11am\n\nOak Hills Country Club\n12325
  Golfing Green Dr.\nOmaha\, NE 68137
DTSTART;TZID=America/Chicago:20250406T090000
DTEND;TZID=America/Chicago:20250406T110000
LOCATION:https://secure.lglforms.com/form_engine/s/VSJwZD5x40My5L81vXwclQ?t
 =1741791618
SUMMARY:Moms Appreciation Brunch
END:VEVENT
END:VCALENDAR
