BEGIN:VCALENDAR
VERSION:2.0
PRODID:-//www.dsamidlands.org//NONSGML kigkonsult.se iCalcreator 2.30.10//
CALSCALE:GREGORIAN
METHOD:PUBLISH
UID:7e67d7cb-f108-4597-9d34-4efbc9f5d14f
X-WR-CALDESC:
X-WR-RELCALID:d3b1a72d363e45a93c9591011a90e2a2
X-WR-TIMEZONE:America/Chicago
BEGIN:VTIMEZONE
TZID:America/Chicago
BEGIN:STANDARD
TZNAME:CST
DTSTART:20241103T020000
TZOFFSETFROM:-0500
TZOFFSETTO:-0600
RDATE:20251102T020000
END:STANDARD
BEGIN:DAYLIGHT
TZNAME:CDT
DTSTART:20250309T020000
TZOFFSETFROM:-0600
TZOFFSETTO:-0500
RDATE:20260308T020000
END:DAYLIGHT
END:VTIMEZONE
BEGIN:VEVENT
UID:ba5092de-f4af-4081-8fa5-22ac52cc4b40
DTSTAMP:20260422T055332Z
DESCRIPTION:
DTSTART;TZID=America/Chicago:20250405T090000
DTEND;TZID=America/Chicago:20250405T100000
LOCATION:https://secure.lglforms.com/form_engine/s/h3pPTVzAqkMaYeMpqt1Hlg
SUMMARY:Breakfast Club
END:VEVENT
END:VCALENDAR
