BEGIN:VCALENDAR
VERSION:2.0
PRODID:-//www.dsamidlands.org//NONSGML kigkonsult.se iCalcreator 2.30.10//
CALSCALE:GREGORIAN
METHOD:PUBLISH
UID:517f6e0e-bdde-4a65-a647-74cac5d5c65f
X-WR-CALDESC:DSA members pay $70 per session/$140 for non-members. Sessions
  are 7 classes.
X-WR-RELCALID:37c1d8687d3bea52438af06cf62ed794
X-WR-TIMEZONE:America/Chicago
BEGIN:VTIMEZONE
TZID:America/Chicago
BEGIN:STANDARD
TZNAME:CST
DTSTART:20241103T020000
TZOFFSETFROM:-0500
TZOFFSETTO:-0600
RDATE:20251102T020000
END:STANDARD
BEGIN:DAYLIGHT
TZNAME:CDT
DTSTART:20250309T020000
TZOFFSETFROM:-0600
TZOFFSETTO:-0500
RDATE:20260308T020000
END:DAYLIGHT
END:VTIMEZONE
BEGIN:VEVENT
UID:821a93d9-73f6-449f-b6e1-195eaca7ce8e
DTSTAMP:20260422T060133Z
DESCRIPTION:DSA members pay $70 per session/$140 for non-members. Sessions 
 are 7 classes.
DTSTART;TZID=America/Chicago:20250405T130000
DTEND;TZID=America/Chicago:20250405T140000
LOCATION:https://secure.lglforms.com/form_engine/s/hMqV3FC5LrgS_kECFNCApA
SUMMARY:Improv (Ages 19 and over)
END:VEVENT
END:VCALENDAR
