BEGIN:VCALENDAR
VERSION:2.0
PRODID:-//www.dsamidlands.org//NONSGML kigkonsult.se iCalcreator 2.30.10//
CALSCALE:GREGORIAN
METHOD:PUBLISH
UID:7819b09b-0513-4d0b-9a1a-ad1efc6aa46f
X-WR-CALDESC:April Kids Connect K-2\, We Rock the Spectrum Kids Gym
X-WR-RELCALID:7a160c251be12d68b09dfc7738becdb9
X-WR-TIMEZONE:America/Chicago
BEGIN:VTIMEZONE
TZID:America/Chicago
BEGIN:STANDARD
TZNAME:CST
DTSTART:20241103T020000
TZOFFSETFROM:-0500
TZOFFSETTO:-0600
RDATE:20251102T020000
END:STANDARD
BEGIN:DAYLIGHT
TZNAME:CDT
DTSTART:20250309T020000
TZOFFSETFROM:-0600
TZOFFSETTO:-0500
RDATE:20260308T020000
END:DAYLIGHT
END:VTIMEZONE
BEGIN:VEVENT
UID:de355ebd-3be1-403a-9ca2-730663eca1df
DTSTAMP:20260422T055935Z
DESCRIPTION:April Kids Connect K-2\, We Rock the Spectrum Kids Gym
DTSTART;TZID=America/Chicago:20250402T173000
DTEND;TZID=America/Chicago:20250402T190000
LOCATION:https://secure.lglforms.com/form_engine/s/zC5RgGyW5ApEmGbK3O53pQ
SUMMARY:Kids Connect K-2
END:VEVENT
END:VCALENDAR
