BEGIN:VCALENDAR
VERSION:2.0
PRODID:-//www.dsamidlands.org//NONSGML kigkonsult.se iCalcreator 2.30.10//
CALSCALE:GREGORIAN
METHOD:PUBLISH
UID:4902b3b2-5b0a-4825-8aae-99bbfe4e871d
X-WR-CALDESC:This is the final class for this session of Drumming for Welln
 ess! Look for information coming soon about a new session beginning in May
 !
X-WR-RELCALID:5df0abfdd3b90d3be0ec5f79ba7a50f0
X-WR-TIMEZONE:America/Chicago
BEGIN:VTIMEZONE
TZID:America/Chicago
BEGIN:STANDARD
TZNAME:CST
DTSTART:20241103T020000
TZOFFSETFROM:-0500
TZOFFSETTO:-0600
RDATE:20251102T020000
END:STANDARD
BEGIN:DAYLIGHT
TZNAME:CDT
DTSTART:20250309T020000
TZOFFSETFROM:-0600
TZOFFSETTO:-0500
RDATE:20260308T020000
END:DAYLIGHT
END:VTIMEZONE
BEGIN:VEVENT
UID:dca96f4a-0cd2-4237-b0a4-5e28c92bec01
DTSTAMP:20260422T071858Z
DESCRIPTION:This is the final class for this session of Drumming for Wellne
 ss! Look for information coming soon about a new session beginning in May!
DTSTART;TZID=America/Chicago:20250331T100000
DTEND;TZID=America/Chicago:20250331T130000
LOCATION:10824 Old Mill Rd\, Suite 8\, Omaha\, NE 68154 US
SUMMARY:Drumming for Wellness Final Class!
END:VEVENT
END:VCALENDAR
